BEGIN:VCALENDAR
VERSION:2.0
PRODID:-//wp-events-plugin.com//7.2.3.1//EN
TZID:America/New_York
X-WR-TIMEZONE:America/New_YorkBEGIN:VCALENDAR
VERSION:2.0
PRODID:-//wp-events-plugin.com//7.2.3.1//EN
TZID:America/New_York
X-WR-TIMEZONE:America/New_York
BEGIN:VEVENT
UID:372@earlymusicamerica.org
DTSTART;TZID=America/New_York:20250208T193000
DTEND;TZID=America/New_York:20250208T211500
DTSTAMP:20250204T171411Z
URL:https://www.earlymusicamerica.org/events/piffaro-the-bassanos-from-ren
 aissance-italy-to-tudor-england/
SUMMARY:Piffaro: The Bassanos From Renaissance Italy to Tudor England
DESCRIPTION:\n\nAmerica’s premiere Renaissance wind ensemble makes its tr
 iumphant return to Pittsburgh with a story of musical immigration. An Ital
 ian and likely Jewish family of wind players moves to England during the r
 eign of Henry VIII\, pushing instrumental music into a new frontier. The w
 ind players of Piffaro look at one of the most potent examples of musical 
 immigration in 16th-century Europe—the story of the Bassano family.\n\n\
 n\n\nARTISTS\nPiffaro\, The Renaissance Band\n\n\n\n\n\n\n\nPriscilla Herr
 eidGrant HerreidGreg InglesErik SchmalzSian RickettsHéloïse Degrugillier
 Stephanie Corwin\n\n\n\n\n
ATTACH;FMTTYPE=image/jpeg:https://www.earlymusicamerica.org/wp-content/upl
 oads/2025/02/5-sc-new.jpeg
CATEGORIES:Concerts
LOCATION:Calvary Episcopal Church\, 315 Shady Ave\, Shadyside\, PA\, 15206\
 , United States
X-APPLE-STRUCTURED-LOCATION;VALUE=URI;X-ADDRESS=315 Shady Ave\, Shadyside\,
  PA\, 15206\, United States;X-APPLE-RADIUS=100;X-TITLE=Calvary Episcopal C
 hurch:geo:0,0
END:VEVENT
BEGIN:VTIMEZONE
TZID:America/New_York
X-LIC-LOCATION:America/New_York
BEGIN:STANDARD
DTSTART:20241103T010000
TZOFFSETFROM:-0400
TZOFFSETTO:-0500
TZNAME:EST
END:STANDARD
END:VTIMEZONE
END:VCALENDAR