BEGIN:VCALENDAR
VERSION:2.0
PRODID:-//wp-events-plugin.com//7.2.3.1//EN
TZID:America/New_York
X-WR-TIMEZONE:America/New_YorkBEGIN:VCALENDAR
VERSION:2.0
PRODID:-//wp-events-plugin.com//7.2.3.1//EN
TZID:America/New_York
X-WR-TIMEZONE:America/New_York
BEGIN:VEVENT
UID:1224@earlymusicamerica.org
DTSTART;TZID=America/New_York:20260426T150000
DTEND;TZID=America/New_York:20260426T163000
DTSTAMP:20260312T211917Z
URL:https://www.earlymusicamerica.org/events/roanoque-baroque-on-tour-2/
SUMMARY:Roanoque Baroque On Tour
DESCRIPTION:Roanoque Baroque presents a concert featuring the music of Hand
 el\, Vivaldi\, Sammartini\, C.P.E. Bach and Pachelbel with soloists Adelai
 de Trombetta\, soprano\, Kevin Pfister\, baroque bassoon\, and Christi How
 ell and Rick Dolan violinists. Tickets available at the door and in advanc
 e at https://www.zeffy.com/en-US/ticketing/roanoque-baroque-oreland-evange
 lical-presbyterian-church.
ATTACH;FMTTYPE=image/jpeg:https://www.earlymusicamerica.org/wp-content/upl
 oads/2026/03/Screenshot-2026-03-04-at-4.32.39-PM-1.png
CATEGORIES:Concerts
LOCATION:Oreland Evangelical Presbyterian Church\, 1119 Church Rd\, Oreland
 \, PA\, 19075\, United States
GEO:40.106573;-75.188418
X-APPLE-STRUCTURED-LOCATION;VALUE=URI;X-ADDRESS=1119 Church Rd\, Oreland\, 
 PA\, 19075\, United States;X-APPLE-RADIUS=100;X-TITLE=Oreland Evangelical 
 Presbyterian Church:geo:40.106573,-75.188418
END:VEVENT
BEGIN:VTIMEZONE
TZID:America/New_York
X-LIC-LOCATION:America/New_York
BEGIN:DAYLIGHT
DTSTART:20260308T030000
TZOFFSETFROM:-0500
TZOFFSETTO:-0400
TZNAME:EDT
END:DAYLIGHT
END:VTIMEZONE
END:VCALENDAR