BEGIN:VCALENDAR
VERSION:2.0
PRODID:-//wp-events-plugin.com//7.2.3.1//EN
TZID:America/New_York
X-WR-TIMEZONE:America/New_YorkBEGIN:VCALENDAR
VERSION:2.0
PRODID:-//wp-events-plugin.com//7.2.3.1//EN
TZID:America/New_York
X-WR-TIMEZONE:America/New_York
BEGIN:VEVENT
UID:1223@earlymusicamerica.org
DTSTART;TZID=America/New_York:20260425T190000
DTEND;TZID=America/New_York:20260425T203000
DTSTAMP:20260312T211036Z
URL:https://www.earlymusicamerica.org/events/roanoque-baroque-on-tour/
SUMMARY:Roanoque Baroque On Tour
DESCRIPTION:Roanoque Baroque presents a concert featuring the music of Hand
 el\, Vivaldi\, Sammartini\, C.P.E. Bach and Pachelbel with soloists Adelai
 de Trombetta\, soprano\, Kevin Pfister\, baroque bassoon\, and Christi How
 ell and Rick Dolan violinists. Tickets available at the door and in advanc
 e at https://www.zeffy.com/en-US/ticketing/roanoque-baroque-holy-trinity-e
 vangelical-lutheran-church.\n\n&nbsp\;
ATTACH;FMTTYPE=image/jpeg:https://www.earlymusicamerica.org/wp-content/upl
 oads/2026/03/Screenshot-2026-03-04-at-4.32.39-PM.png
CATEGORIES:Concerts
LOCATION:Holy Trinity Lutheran Church\, 2086 Parkview Ave\, Abington\, PA\,
  19001\, United States
GEO:40.134989;-75.113996
X-APPLE-STRUCTURED-LOCATION;VALUE=URI;X-ADDRESS=2086 Parkview Ave\, Abingto
 n\, PA\, 19001\, United States;X-APPLE-RADIUS=100;X-TITLE=Holy Trinity Lut
 heran Church:geo:40.134989,-75.113996
END:VEVENT
BEGIN:VTIMEZONE
TZID:America/New_York
X-LIC-LOCATION:America/New_York
BEGIN:DAYLIGHT
DTSTART:20260308T030000
TZOFFSETFROM:-0500
TZOFFSETTO:-0400
TZNAME:EDT
END:DAYLIGHT
END:VTIMEZONE
END:VCALENDAR