BEGIN:VCALENDAR
VERSION:2.0
PRODID:-//wp-events-plugin.com//7.2.3.1//EN
TZID:America/New_York
X-WR-TIMEZONE:America/New_YorkBEGIN:VCALENDAR
VERSION:2.0
PRODID:-//wp-events-plugin.com//7.2.3.1//EN
TZID:America/New_York
X-WR-TIMEZONE:America/New_York
BEGIN:VEVENT
UID:1310@earlymusicamerica.org
DTSTART;TZID=America/New_York;VALUE=DATE:20260523
DTEND;TZID=America/New_York;VALUE=DATE:20260525
DTSTAMP:20260420T165910Z
URL:https://www.earlymusicamerica.org/events/ronn-mcfarlane-weekend-lute-w
 orkshop-2/
SUMMARY:Ronn McFarlane Weekend Lute Workshop
DESCRIPTION:A full weekend of lute-related events\, including master classe
 s\, private lessons\, a student concert\, lecture/demos by both Ronn and s
 tudents\, and a solo lute concert by Ronn on Saturday night!\n(The concert
  is open to all\, not just those who attend the full weekend workshop.)\nV
 enue:The home of Betsy SmallWashington\, DC(202) 550-2583\nTo make reserva
 tions in advance or get more info\, please call Betsy Small at the above n
 umber.Advance reservations are optional but recommended.
ATTACH;FMTTYPE=image/jpeg:https://www.earlymusicamerica.org/wp-content/upl
 oads/2026/04/Ronn_McFarlane-black-background-low-res.jpg
CATEGORIES:Concerts,Workshops
LOCATION:The home of Betsy Small\, call for details\, Washington\, DC\, Uni
 ted States
GEO:47.751074;-120.740139
X-APPLE-STRUCTURED-LOCATION;VALUE=URI;X-ADDRESS=call for details\, Washingt
 on\, DC\, United States;X-APPLE-RADIUS=100;X-TITLE=The home of Betsy Small
 :geo:47.751074,-120.740139
END:VEVENT
BEGIN:VTIMEZONE
TZID:America/New_York
X-LIC-LOCATION:America/New_York
BEGIN:DAYLIGHT
DTSTART:20260308T030000
TZOFFSETFROM:-0500
TZOFFSETTO:-0400
TZNAME:EDT
END:DAYLIGHT
END:VTIMEZONE
END:VCALENDAR