BEGIN:VCALENDAR
VERSION:2.0
PRODID:-//wp-events-plugin.com//7.2.3.1//EN
TZID:America/New_York
X-WR-TIMEZONE:America/New_YorkBEGIN:VCALENDAR
VERSION:2.0
PRODID:-//wp-events-plugin.com//7.2.3.1//EN
TZID:America/New_York
X-WR-TIMEZONE:America/New_York
BEGIN:VEVENT
UID:1130@earlymusicamerica.org
DTSTART;TZID=America/New_York:20260215T153000
DTEND;TZID=America/New_York:20260215T170000
DTSTAMP:20260120T235713Z
URL:https://www.earlymusicamerica.org/events/siglo-de-oro-a-nine-voice-ens
 emble-from-london-i-call-to-thee/
SUMMARY:Siglo de Oro\, A Nine-Voice Ensemble from London: I Call to Thee
DESCRIPTION:Siglo de Oro\, one of Britain’s leading vocal ensembles perfo
 rms as part of Museum Concerts 59th season as Rhode Island’s premier ear
 ly music concert series. Praised for its golden tone\, fresh interpretatio
 ns\, and innovative programming\, Siglo de Oro has performed across the UK
 \, in the U.S. and Canada\, and at festivals throughout Europe for over a 
 decade.\n\nWith Patrick Allies conducting the nine-voice group\, the progr
 am I Call to Thee features beloved early English composers Byrd\, Taverne
 r\, and Tallis\, in addition to contemporary composers Caroline Shaw\, Cec
 ilia McDowall\, and Arvo Pärt.\n\nSunday\, February 15\, 3:30 pm\, First 
 Unitarian Church\, Benefit Street\, Providence\, RI 02906\n\n“Confident\
 , sonorous and full of character” —Gramophone\n\n“Siglo de Oro\, und
 er the assured direction of Patrick Allies\, performed with vivacity and p
 oise.” — Financial Times\n\nMore info and tickets at MuseumConcerts.o
 rg
ATTACH;FMTTYPE=image/jpeg:https://www.earlymusicamerica.org/wp-content/upl
 oads/2026/01/Siglo-de-Oro-Steps-1960x1512-1.jpg
CATEGORIES:Concerts
LOCATION:First Unitarian Church\, 1 Benevolent Street\, Providence\, RI\, 0
 2906\, United States
GEO:41.824366;-71.40505
X-APPLE-STRUCTURED-LOCATION;VALUE=URI;X-ADDRESS=1 Benevolent Street\, Provi
 dence\, RI\, 02906\, United States;X-APPLE-RADIUS=100;X-TITLE=First Unitar
 ian Church:geo:41.824366,-71.40505
END:VEVENT
BEGIN:VTIMEZONE
TZID:America/New_York
X-LIC-LOCATION:America/New_York
BEGIN:STANDARD
DTSTART:20251102T010000
TZOFFSETFROM:-0400
TZOFFSETTO:-0500
TZNAME:EST
END:STANDARD
END:VTIMEZONE
END:VCALENDAR