BEGIN:VCALENDAR
VERSION:2.0
PRODID:-//wp-events-plugin.com//7.2.3.1//EN
TZID:America/New_York
X-WR-TIMEZONE:America/New_YorkBEGIN:VCALENDAR
VERSION:2.0
PRODID:-//wp-events-plugin.com//7.2.3.1//EN
TZID:America/New_York
X-WR-TIMEZONE:America/New_York
BEGIN:VEVENT
UID:1151@earlymusicamerica.org
DTSTART;TZID=America/New_York:20260424T193000
DTEND;TZID=America/New_York:20260424T193000
DTSTAMP:20260201T211313Z
URL:https://www.earlymusicamerica.org/events/starstruck-in-akron/
SUMMARY:Starstruck in Akron
DESCRIPTION: Rising star soprano Hannah De Priest is featured in a brillia
 nt Handelian showcase including excerpts from Apollo and Daphne and a show
 -stopping motet for soprano and ensemble\, Silete venti. Brilliant instrum
 ental works complete this all-Handel program.\n\nFEATURED ARTISTS\nHannah 
 De Priest\, soprano\nDebra Nagy\, oboe and director\nShelby Yamin\, violin
 \nLaura Lutzke\, violin\nKate Goddard\, viola\nRebecca Landell\, cello\nMa
 rk Edwards\, harpsichord\n\n\nMusical Program\n\n\n\n\n\nConcerto Grosso i
 n G major\, Op. 3 no. 3 (HWV 314)\n\n“Come in ciel benigna stella” fro
 m Apollo e Dafne (HWV 122)\n\nTrio Sonata Op. 5 no. 1 in A major\n\n“F
 elicissima quest’alma” from Apollo e Dafne\n\nSilete Venti  (HWV 242
 )\n\n\n\n 
ATTACH;FMTTYPE=image/jpeg:https://www.earlymusicamerica.org/wp-content/upl
 oads/2026/02/20250711_155118_20260201_161203_0000.png
CATEGORIES:Concerts
LOCATION:Westminster Presbyterian Church\, 1250 W Exchange St\, Akron\, OH\
 , 44313\, United States
X-APPLE-STRUCTURED-LOCATION;VALUE=URI;X-ADDRESS=1250 W Exchange St\, Akron\
 , OH\, 44313\, United States;X-APPLE-RADIUS=100;X-TITLE=Westminster Presby
 terian Church:geo:0,0
END:VEVENT
BEGIN:VTIMEZONE
TZID:America/New_York
X-LIC-LOCATION:America/New_York
BEGIN:DAYLIGHT
DTSTART:20260308T030000
TZOFFSETFROM:-0500
TZOFFSETTO:-0400
TZNAME:EDT
END:DAYLIGHT
END:VTIMEZONE
END:VCALENDAR