BEGIN:VCALENDAR
VERSION:2.0
PRODID:-//wp-events-plugin.com//7.2.3.1//EN
TZID:America/New_York
X-WR-TIMEZONE:America/New_YorkBEGIN:VCALENDAR
VERSION:2.0
PRODID:-//wp-events-plugin.com//7.2.3.1//EN
TZID:America/New_York
X-WR-TIMEZONE:America/New_York
BEGIN:VEVENT
UID:1085@earlymusicamerica.org
DTSTART;TZID=Europe/Berlin:20260603T160000
DTEND;TZID=Europe/Berlin:20260610T180000
DTSTAMP:20260106T122306Z
URL:https://www.earlymusicamerica.org/events/teddie-talks-traverso-an-orna
 mentation-lesson-with-telemannand-eva-legene/
SUMMARY:Teddie Talks Traverso - "An Ornamentation Lesson with Telemann"(and
  Eva Legêne!)
DESCRIPTION:It's my great honor that Professor Emeritus Eva Legêne returns
  to Teddie Talks Traverso to take us on a deep dive into the world of orna
 mentation according to Telemann. By examining the harmonic and melodic con
 texts in excerpts from the Methodical Sonatas as well as other works of hi
 s\, we'll learn that Telemann shows us precisely how different ornaments s
 hould be played\, resulting in an interpretation that's stylish and expres
 sive.\nDay 1 on June 3rd will be focused on the building blocks of ornamen
 tation\, and we'll begin with the appoggiatura\, trills\, and mordents. We
 'll venture out on Day 2 on June 10th to look at "fancier" ornaments such 
 as tierce de coulées\, slides\, and tiratas. Dedicated exercises\, guided
  practice and listening will make up the entire lecture workshop.\nALL FLU
 TE PLAYERS\, regardless modern or baroque\, as well as any instrumentalist
 s interested in baroque ornamentation\, are warmly welcomed! BRING YOUR IN
 STRUMENT!\nMore information through links above. \n“Teddie Talks Traver
 so” is a series dedicated to topics around historical flute-playing. The
 se are talks\, workshops\, and media curated by the flutist Teddie Hwang. 
 www.teddiehwang.com
ATTACH;FMTTYPE=image/jpeg:https://www.earlymusicamerica.org/wp-content/upl
 oads/2026/01/Screenshot-2025-12-30-at-21.44.05-copy.jpg
CATEGORIES:Workshops
LOCATION:https://www.eventbrite.de/e/an-ornamentation-lesson-with-telemann-
 tickets-1979344500684
END:VEVENT
BEGIN:VTIMEZONE
TZID:Europe/Berlin
X-LIC-LOCATION:Europe/Berlin
BEGIN:DAYLIGHT
DTSTART:20260329T030000
TZOFFSETFROM:+0100
TZOFFSETTO:+0200
TZNAME:CEST
END:DAYLIGHT
END:VTIMEZONE
END:VCALENDAR