BEGIN:VCALENDAR
VERSION:2.0
PRODID:-//wp-events-plugin.com//7.2.3.1//EN
TZID:America/New_York
X-WR-TIMEZONE:America/New_YorkBEGIN:VCALENDAR
VERSION:2.0
PRODID:-//wp-events-plugin.com//7.2.3.1//EN
TZID:America/New_York
X-WR-TIMEZONE:America/New_York
BEGIN:VEVENT
UID:86@earlymusicamerica.org
DTSTART;TZID=Europe/Berlin:20240928T170000
DTEND;TZID=Europe/Berlin:20240928T183000
DTSTAMP:20240919T165309Z
URL:https://www.earlymusicamerica.org/events/teddie-talks-traverso-duet-pl
 ay-along-telemanns-canonic-sonata-in-d-major/
SUMMARY:Teddie Talks Traverso - "Duet Play-Along: Telemann's Canonic Sonata
  in D major"
DESCRIPTION:In this interactive workshop\, we'll be studying and playing G.
  Ph. Telemann's Sonata in D major\, the third sonata from his Six Canonic 
 Sonatas TWV 40:118-123. Although technically not very demanding\, playing 
 these pieces with a partner is a fun way to develop one's technique and mu
 sicality in the baroque style. Teddie will provide guidance and focus on p
 ertinent topics for each movement such as phrasing\, articulation\, and co
 ncepts regarding sound. Full-time music students studying at a higher-educ
 ation institution receive a discounted rate.\n\n"Teddie Talks Traverso" is
  a series dedicated to topics around historical flute-playing. These are t
 alks\, workshops\, and media curated by the flutist Teddie Hwang. www.tedd
 iehwang.com\n\n&nbsp\;
ATTACH;FMTTYPE=image/jpeg:https://www.earlymusicamerica.org/wp-content/upl
 oads/2024/09/Telemann-Duet.png
CATEGORIES:Workshops
LOCATION:https://www.eventbrite.de/e/duet-play-along-telemanns-canonic-sona
 ta-in-d-major-tickets-935907824497
END:VEVENT
BEGIN:VTIMEZONE
TZID:Europe/Berlin
X-LIC-LOCATION:Europe/Berlin
BEGIN:DAYLIGHT
DTSTART:20240331T030000
TZOFFSETFROM:+0100
TZOFFSETTO:+0200
TZNAME:CEST
END:DAYLIGHT
END:VTIMEZONE
END:VCALENDAR