BEGIN:VCALENDAR
VERSION:2.0
PRODID:-//wp-events-plugin.com//7.2.3.1//EN
TZID:America/New_York
X-WR-TIMEZONE:America/New_YorkBEGIN:VCALENDAR
VERSION:2.0
PRODID:-//wp-events-plugin.com//7.2.3.1//EN
TZID:America/New_York
X-WR-TIMEZONE:America/New_York
BEGIN:VEVENT
UID:87@earlymusicamerica.org
DTSTART;TZID=Europe/Berlin:20241012T170000
DTEND;TZID=Europe/Berlin:20241012T181500
DTSTAMP:20240919T170425Z
URL:https://www.earlymusicamerica.org/events/teddie-talks-traverso-lets-ch
 at-with-boaz-berney/
SUMMARY:Teddie Talks Traverso - "Let's Chat with Boaz Berney"
DESCRIPTION:Join us in a friendly conversation with the Montréal-based tra
 verso maker Boaz Berney and learn how to get your flutes ready for the upc
 oming winter!\n\nCome hear about how his flute-playing led to flute-making
 \, his philosophies as a maker\, and special instruments which deserve hon
 orable mentions. Last but not least\, learn about basic traverso care and 
 maintenance to prepare yourself for the upcoming winter. Here's your chanc
 e to clear up any questions which might have hard-to-find answers!\n\nSee 
 Boaz's beautiful instruments: https://berneyflutes.com\n\nTickets are free
  to attend live. The replay will be available on social media afterwards.\
 n\n“Teddie Talks Traverso” is a series dedicated to topics around hist
 orical flute-playing. These are talks\, workshops\, and media curated by t
 he flutist Teddie Hwang. www.teddiehwang.com
ATTACH;FMTTYPE=image/jpeg:https://www.earlymusicamerica.org/wp-content/upl
 oads/2024/09/Lets-Chat-with-Boaz-copy.jpg
CATEGORIES:Webinar or Web Meeting
LOCATION:https://www.eventbrite.de/e/lets-chat-with-boaz-berney-tickets-927
 813664647
END:VEVENT
BEGIN:VTIMEZONE
TZID:Europe/Berlin
X-LIC-LOCATION:Europe/Berlin
BEGIN:DAYLIGHT
DTSTART:20240331T030000
TZOFFSETFROM:+0100
TZOFFSETTO:+0200
TZNAME:CEST
END:DAYLIGHT
END:VTIMEZONE
END:VCALENDAR