BEGIN:VCALENDAR
VERSION:2.0
PRODID:-//wp-events-plugin.com//7.2.3.1//EN
TZID:America/New_York
X-WR-TIMEZONE:America/New_YorkBEGIN:VCALENDAR
VERSION:2.0
PRODID:-//wp-events-plugin.com//7.2.3.1//EN
TZID:America/New_York
X-WR-TIMEZONE:America/New_York
BEGIN:VEVENT
UID:63@earlymusicamerica.org
DTSTART;TZID=America/New_York:20241203T193000
DTEND;TZID=America/New_York:20241203T213000
DTSTAMP:20240913T194755Z
URL:https://www.earlymusicamerica.org/events/telemanns-don-quichotte-bemf-
 chamber-opera-series-3/
SUMMARY:Telemann's Don Quichotte (BEMF Chamber Opera in Concert)
DESCRIPTION:\n\n\n\n\nTelemann’s Don Quichotte\n\n\n\n\n\n\n\n\n\n\nPaul 
 O'Dette &amp\; Stephen Stubbs\, Musical Directors\nRobert Mealy\, Concert
 master\n\n\nTuesday\, December 3\, 2024 | 7:30pm (Concert Version) PURCH
 ASE TICKETS\nThe Morgan Library &amp\; Museum\, New York\, NY \n\nCervant
 es’s epic story is brought to life through the irresistible music of Geo
 rg Philipp Telemann!\n\n\n\n\n\n\n\n\n\n\nJoin the singers\, instrumentali
 sts\, and directors of the GRAMMY-winning BEMF Chamber Opera Series for a 
 special presentation of two masterworks by Telemann. Enjoy a concert perfo
 rmance of Telemann’s lovely serenata\, Don Quichotte auf der Hochzeit de
 s Comacho\, which sees Don Quixote and his squire Sancho Panza stumble up
 on the wedding of wealthy sheep rancher Comacho to the beautiful Quiteria
 —but her childhood sweetheart Basilio is ready to disrupt the festivitie
 s even if it’s the last thing he ever does! Woven throughout the enterta
 inment will be movements from Telemann’s delightful orchestral suite Bu
 rlesque de Don Quichotte\, a work that uses strikingly evocative music t
 o depict various episodes from the classic novel by Cervantes.\n\n\n\n\n\n
 “Spellbinding.”\n\n—The Boston Globe\n\n\n\n\n\n\n\n\n\n\n\nARTISTS\
 n\n\n\n\nPaul O’Dette &amp\; Stephen Stubbs\, Musical Directors\nRobert
  Mealy\, Concertmaster\nKathleen Fay\, Executive Producer\nChristian Immle
 r\, Don Quichotte\nJason McStoots\, Sancho Pansa\nEmily Siar\, Quiteria
 \nMichael Galvin\, Comacho\nCody Bowers\, Basilio\nRichard Pittsinger\,
  Grisóstomo\nJason Rober\, Pedrillo\nBoston Early Music Festival Vocal 
 Ensemble\nBoston Early Music Festival Chamber Ensemble\n\n\n\n\n\n
ATTACH;FMTTYPE=image/jpeg:https://www.earlymusicamerica.org/wp-content/upl
 oads/2024/09/Don-Quichotte-2-1.png
CATEGORIES:Concerts
LOCATION:Gilder Lehrman Hall at The Morgan Library &amp\; Museum\, 225 Madi
 son Avenue\, New York\, NY\, 10016\, United States
X-APPLE-STRUCTURED-LOCATION;VALUE=URI;X-ADDRESS=225 Madison Avenue\, New Yo
 rk\, NY\, 10016\, United States;X-APPLE-RADIUS=100;X-TITLE=Gilder Lehrman 
 Hall at The Morgan Library & Museum:geo:0,0
END:VEVENT
BEGIN:VTIMEZONE
TZID:America/New_York
X-LIC-LOCATION:America/New_York
BEGIN:STANDARD
DTSTART:20241103T010000
TZOFFSETFROM:-0400
TZOFFSETTO:-0500
TZNAME:EST
END:STANDARD
END:VTIMEZONE
END:VCALENDAR