BEGIN:VCALENDAR
VERSION:2.0
PRODID:-//wp-events-plugin.com//7.2.3.1//EN
TZID:America/New_York
X-WR-TIMEZONE:America/New_YorkBEGIN:VCALENDAR
VERSION:2.0
PRODID:-//wp-events-plugin.com//7.2.3.1//EN
TZID:America/New_York
X-WR-TIMEZONE:America/New_York
BEGIN:VEVENT
UID:53@earlymusicamerica.org
DTSTART;TZID=America/Los_Angeles:20250308T150000
DTEND;TZID=America/Los_Angeles:20250308T170000
DTSTAMP:20240912T221140Z
URL:https://www.earlymusicamerica.org/events/the-hunting-horn-handel-coupe
 rin-bach/
SUMMARY:The Hunting Horn: Handel\, Couperin &amp\; Bach
DESCRIPTION:Featuring horn\, oboe\, violin\, and harpsichord\, this musical
  ride through the European countryside echoes with the thundering hooves a
 nd spirited chase of the hunt. Stölzel’s Sonata sets the scene with its
  evocative simplicity\, capturing the essence of the outdoors. The complex
 ity of the music then intensifies with works by Telemann and Fasch\, mirro
 ring the excitement and intensity of the hunt\, while paying homage to the
  horn’s crucial role in signaling and guiding the pursuit.\n\n&nbsp\;\nP
 rogram\n\n 	\nGeorge Frideric Handel\nSuite in D Major\, HWV 341\, arr. An
 drew Clark\n 	\nFrançois Couperin\nSuite from the Concerts royaux\n 	\nJ
 ohann Sebastian Bach\nSonata for violin and harpsichord in E Minor\, BWV 1
 023\n 	\nGeorg Philipp Telemann\nTrio for violin\, horn and harpsichord in
  F Major\, TWV 43: F6\n
ATTACH;FMTTYPE=image/jpeg:https://www.earlymusicamerica.org/wp-content/upl
 oads/2024/09/Hunting-Horn-Web-square-540x.png
CATEGORIES:Concerts
LOCATION:First Congregational Church\, Portland\, 1126 SW Park Ave\, Portla
 nd\, Oregon\, 97205\, United States
X-APPLE-STRUCTURED-LOCATION;VALUE=URI;X-ADDRESS=1126 SW Park Ave\, Portland
 \, Oregon\, 97205\, United States;X-APPLE-RADIUS=100;X-TITLE=First Congreg
 ational Church\, Portland:geo:0,0
END:VEVENT
BEGIN:VTIMEZONE
TZID:America/Los_Angeles
X-LIC-LOCATION:America/Los_Angeles
BEGIN:STANDARD
DTSTART:20241103T010000
TZOFFSETFROM:-0700
TZOFFSETTO:-0800
TZNAME:PST
END:STANDARD
END:VTIMEZONE
END:VCALENDAR