BEGIN:VCALENDAR
VERSION:2.0
PRODID:-//wp-events-plugin.com//7.2.3.1//EN
TZID:America/New_York
X-WR-TIMEZONE:America/New_YorkBEGIN:VCALENDAR
VERSION:2.0
PRODID:-//wp-events-plugin.com//7.2.3.1//EN
TZID:America/New_York
X-WR-TIMEZONE:America/New_York
BEGIN:VEVENT
UID:271@earlymusicamerica.org
DTSTART;TZID=America/New_York:20250106T193000
DTEND;TZID=America/New_York:20250106T203000
DTSTAMP:20241231T170126Z
URL:https://www.earlymusicamerica.org/events/the-long-nights-watch-virtual
 -premiere/
SUMMARY:The Long Night's Watch - virtual premiere
DESCRIPTION:Enjoy our beloved annual concert celebrating the winter solstic
 e and the return of the unconquered sun. We offer seasonal music from acro
 ss the British Isles\, Europe\, and the New World\, including familiar car
 ols\, wintry consort tunes\, festive wassailing songs\, Renaissance dances
 \, Irish reels\, and always a surprise or two. Brew yourself a warm bevera
 ge and say hello in the chat! The video will stay up for later viewing.\nC
 arrie Cheron\, mezzo-sopranoKaren Burciaga\, violin\, harp\, guitar\, alto
 Dan Meyers\, recorders\, flute\, bagpipes\, percussion\, baritoneJosh Schr
 eiber\, bass viol\, bassMatthew Wright\, lute\, bandora\, tenor\nFree to w
 atch on our YouTube channel. Donations to support the musicians are encour
 aged and welcome!
ATTACH;FMTTYPE=image/jpeg:https://www.earlymusicamerica.org/wp-content/upl
 oads/2024/12/12.21.24-bright.jpg
CATEGORIES:Podcast/Video Premiere
LOCATION:https://www.youtube.com/@SevenTimesSalt
END:VEVENT
BEGIN:VTIMEZONE
TZID:America/New_York
X-LIC-LOCATION:America/New_York
BEGIN:STANDARD
DTSTART:20241103T010000
TZOFFSETFROM:-0400
TZOFFSETTO:-0500
TZNAME:EST
END:STANDARD
END:VTIMEZONE
END:VCALENDAR