BEGIN:VCALENDAR
VERSION:2.0
PRODID:-//wp-events-plugin.com//7.2.3.1//EN
TZID:America/New_York
X-WR-TIMEZONE:America/New_YorkBEGIN:VCALENDAR
VERSION:2.0
PRODID:-//wp-events-plugin.com//7.2.3.1//EN
TZID:America/New_York
X-WR-TIMEZONE:America/New_York
BEGIN:VEVENT
UID:46@earlymusicamerica.org
DTSTART;TZID=America/Los_Angeles:20241116T190000
DTEND;TZID=America/Los_Angeles:20241116T210000
DTSTAMP:20240912T220054Z
URL:https://www.earlymusicamerica.org/events/the-royal-trumpeter-kris-podi
 um/
SUMMARY:The Royal Trumpeter: Kris’ Podium
DESCRIPTION:Trace the fascinating evolution of the trumpet from its utilita
 rian roots on the battlefield to its emergence as a refined instrument of 
 expressive virtuosity. Curated by Principal Trumpet Kris Kwapis\, this pro
 gram delves into the vibrant soundscape of late seventeenth-century London
 \, where the trumpet takes center stage alongside strings\, winds\, and vo
 ices in England’s regal courts. Celebrate the brilliance of composers su
 ch as Purcell\, Croft\, and Eccles\, whose works epitomize splendor and so
 phistication in an era defined by royal patronage.\nProgram\n\n 	\nHenry P
 urcell\nAct II Symphony from The Indian Queen\n 	\nWilliam Croft\nOvertur
 e from Ode for the Peace of Utrecht\n 	\nJohn Eccles\nSuite Made for the
  Queen’s Coronation\n 	\nGottfried Finger\nSonata for trumpet\, violin\,
  and continuo\n
ATTACH;FMTTYPE=image/jpeg:https://www.earlymusicamerica.org/wp-content/upl
 oads/2024/09/The-Royal-Trumpeter-Web-square-540x.png
CATEGORIES:Concerts
LOCATION:First Congregational Church\, Portland\, 1126 SW Park Ave\, Portla
 nd\, Oregon\, 97205\, United States
X-APPLE-STRUCTURED-LOCATION;VALUE=URI;X-ADDRESS=1126 SW Park Ave\, Portland
 \, Oregon\, 97205\, United States;X-APPLE-RADIUS=100;X-TITLE=First Congreg
 ational Church\, Portland:geo:0,0
END:VEVENT
BEGIN:VTIMEZONE
TZID:America/Los_Angeles
X-LIC-LOCATION:America/Los_Angeles
BEGIN:STANDARD
DTSTART:20241103T010000
TZOFFSETFROM:-0700
TZOFFSETTO:-0800
TZNAME:PST
END:STANDARD
END:VTIMEZONE
END:VCALENDAR