BEGIN:VCALENDAR
VERSION:2.0
PRODID:-//Early Music America - ECPv5.9.2//NONSGML v1.0//EN
CALSCALE:GREGORIAN
METHOD:PUBLISH
X-WR-CALNAME:Early Music America
X-ORIGINAL-URL:https://www.earlymusicamerica.org
X-WR-CALDESC:Events for Early Music America
BEGIN:VTIMEZONE
TZID:America/Chicago
BEGIN:DAYLIGHT
TZOFFSETFROM:-0600
TZOFFSETTO:-0500
TZNAME:CDT
DTSTART:20210314T080000
END:DAYLIGHT
BEGIN:STANDARD
TZOFFSETFROM:-0500
TZOFFSETTO:-0600
TZNAME:CST
DTSTART:20211107T070000
END:STANDARD
BEGIN:DAYLIGHT
TZOFFSETFROM:-0600
TZOFFSETTO:-0500
TZNAME:CDT
DTSTART:20220313T080000
END:DAYLIGHT
BEGIN:STANDARD
TZOFFSETFROM:-0500
TZOFFSETTO:-0600
TZNAME:CST
DTSTART:20221106T070000
END:STANDARD
END:VTIMEZONE
BEGIN:VEVENT
DTSTART;TZID=America/Chicago:20211113T193000
DTEND;TZID=America/Chicago:20211113T203000
DTSTAMP:20211018T070847
CREATED:20210901T224536Z
LAST-MODIFIED:20210901T230535Z
UID:69573-1636831800-1636835400@www.earlymusicamerica.org
SUMMARY:Eternity and the Underworld
DESCRIPTION:This program sets old against new\, the promise of everlasting peace against the frustration of unfulfilled dreams. Bach’s meditation on death in Cantata 82 depicts the great beyond as a peaceful refuge. One of his best-known vehicles for solo voice\, Ich habe genug also blends the melancholy sound of the Baroque oboe with accompanying strings\, to magical effect. In contrast\, Jonathan Dove’s L’altra Eurydice (The Other Eurydice) transports us to the underworld\, from which Pluto exposes the treachery of humanity in a remarkable chamber opera for bass-baritone plus a mix of period and modern instruments. Ars Lyrica’s provocative new staging of both works will provide plenty of food for thought about the next world. \n  \nEternity and the Underworld \n11/13/21 at 7:30 pm \nZilkha Hall\, The Hobby Center for the Performing Arts \nConcert broadcast presented on YouTube \n  \nOn the program: \nJ.S. Bach\, Ich habe genug\, BWV 82 \nJonathan Dove\, L’altra Euridice (2001) \n  \nFeaturing: \nMeg Bragle\, mezzo-soprano \nDouglas Williams\, baritone \nTara Faircloth\, stage director \n  \nSeason Subscriptions ($148-$420): https://my.thehobbycenter.org/packages  \n  \nDigital Subscriptions ($120): https://www.arslyricahouston.org/purchase/2122ds  \n  \nIn-Person Single Tickets ($25-$75): https://my.thehobbycenter.org/4830  \n  \nNote: The online concert broadcast of this performance is only available to in-person and digital subscribers. No Digital Single Event Passes are available.
URL:https://www.earlymusicamerica.org/event/eternity-and-the-underworld/
LOCATION:The Hobby Center for the Performing Arts\, 800 Bagby St\, Houston\, TX\, 77002\, United States
CATEGORIES:Concerts
ATTACH;FMTTYPE=image/png:https://www.earlymusicamerica.org/wp-content/uploads/2021/09/2.png
ORGANIZER;CN="Ars%20Lyrica%20Houston":MAILTO:info@arslyricahouston.org
GEO:29.761788;-95.3695832
X-APPLE-STRUCTURED-LOCATION;VALUE=URI;X-ADDRESS=The Hobby Center for the Performing Arts 800 Bagby St Houston TX 77002 United States;X-APPLE-RADIUS=500;X-TITLE=800 Bagby St:geo:-95.3695832,29.761788
END:VEVENT
BEGIN:VEVENT
DTSTART;TZID=America/Chicago:20211217T190000
DTEND;TZID=America/Chicago:20211217T200000
DTSTAMP:20211018T070847
CREATED:20210901T224750Z
LAST-MODIFIED:20210901T230623Z
UID:69576-1639767600-1639771200@www.earlymusicamerica.org
SUMMARY:Crossing Borders
DESCRIPTION:Crossing Borders explores a crucial moment in the musical history of the New World: when European musical traditions began to mingle with indigenous musical practices. This festive program for the holiday season includes villancicos and romances for voices and ensemble plus instrumental works drawn from the rich repertoire of 17th- and 18th-century colonial and Latin American cultures. Musical selections by Roque Ceruti\, José Duran\, Antonio de Salazar\, Manuel Joseph Quiroz\, Sebastián Duron and others illustrate the multiple and creative ways music traverses cultural and national borders. \n  \nThe in-person performance of Crossing Borders is presented to our six-concert subscribers only. No in-person or digital single tickets are available. Read more about livestream tickets to the Crossing Borders touring performance on our website at https://www.arslyricahouston.org/crossingborders.  \n  \nCrossing Borders \n12/17/21 at 7 pm \nMuseum of Fine Arts\, Houston \n  \nFeaturing: \nCamille Ortiz\, soprano \nCecilia Duarte\, mezzo-soprano \n  \n6-Concert Season Subscriptions ($222-$420): https://my.thehobbycenter.org/packages/fixed/175 
URL:https://www.earlymusicamerica.org/event/crossing-borders/
LOCATION:Museum of Fine Arts\, Houston\, 1001 Bissonnet St\, TX\, 77005\, United States
CATEGORIES:Concerts
ATTACH;FMTTYPE=image/png:https://www.earlymusicamerica.org/wp-content/uploads/2021/09/3.png
ORGANIZER;CN="Ars%20Lyrica%20Houston":MAILTO:info@arslyricahouston.org
GEO:29.7256684;-95.3905587
X-APPLE-STRUCTURED-LOCATION;VALUE=URI;X-ADDRESS=Museum of Fine Arts Houston 1001 Bissonnet St TX 77005 United States;X-APPLE-RADIUS=500;X-TITLE=1001 Bissonnet St:geo:-95.3905587,29.7256684
END:VEVENT
BEGIN:VEVENT
DTSTART;TZID=America/Chicago:20220327T143000
DTEND;TZID=America/Chicago:20220327T153000
DTSTAMP:20211018T070847
CREATED:20210901T224953Z
LAST-MODIFIED:20210901T230651Z
UID:69579-1648391400-1648395000@www.earlymusicamerica.org
SUMMARY:An Uncommon Chevalier
DESCRIPTION:This program transports us to a lively Parisian concert hall in the mid 1780s\, just before the Revolution changed everything. An accomplished composer\, violinist\, conductor\, fencer\, and dancer\, Joseph de Bologne became the toast of Paris in the early 1770s. The son of a plantation owner and an African slave\, the younger mixed-race Bologne acquired the title Chevalier de Saint-Georges thanks to Louis XV\, in whose personal guard he briefly served\, and eventually became a favorite of Marie Antoinette. The program features a tuneful violin concerto from Saint-Georges\, a comparable work from a contemporary\, and a symphony commissioned by the Chevalier. \n  \nAn Uncommon Chevalier \n3/27/22 at 2:30 pm \nZilkha Hall\, The Hobby Center for the Performing Arts \nConcert broadcast presented on YouTube \n  \nOn the program: \nJoseph de Bologne\, Violin Concerto in D Major\, Op. 3 No. 1 \nW.A. Mozart\, Violin Concerto No. 3 in G Major\, K. 216 \nJoseph Haydn\, “Paris” Symphony No. 83 in G Minor (“The Hen”) \n  \nFeaturing: \nElizabeth Blumenstock\, violin \nCynthia Roberts\, violin \n  \nSeason Subscriptions ($148-$420): https://my.thehobbycenter.org/packages  \n  \nDigital Subscriptions ($120): https://www.arslyricahouston.org/purchase/2122ds  \n  \nIn-Person Single Tickets ($25-$75): https://my.thehobbycenter.org/4819   \n  \nDigital Single Event Passes ($20): Coming soon
URL:https://www.earlymusicamerica.org/event/an-uncommon-chevalier/
LOCATION:The Hobby Center for the Performing Arts\, 800 Bagby St\, Houston\, TX\, 77002\, United States
CATEGORIES:Concerts
ATTACH;FMTTYPE=image/png:https://www.earlymusicamerica.org/wp-content/uploads/2021/09/4.png
ORGANIZER;CN="Ars%20Lyrica%20Houston":MAILTO:info@arslyricahouston.org
GEO:29.761788;-95.3695832
X-APPLE-STRUCTURED-LOCATION;VALUE=URI;X-ADDRESS=The Hobby Center for the Performing Arts 800 Bagby St Houston TX 77002 United States;X-APPLE-RADIUS=500;X-TITLE=800 Bagby St:geo:-95.3695832,29.761788
END:VEVENT
BEGIN:VEVENT
DTSTART;TZID=America/Chicago:20220521T193000
DTEND;TZID=America/Chicago:20220522T143000
DTSTAMP:20211018T070847
CREATED:20210901T225226Z
LAST-MODIFIED:20210901T230726Z
UID:69582-1653161400-1653229800@www.earlymusicamerica.org
SUMMARY:Dido and Aeneas
DESCRIPTION:Universal stories often revolve around impossible choices between love and duty\, hatred and desire\, will and destiny. The consequences of such turning points are both beautiful and tragic in opera especially. The 2021/22 Ars Lyrica season concludes with a new production of the first masterpiece of English opera. Henry Purcell\, early modern England’s greatest musical dramatist\, infused his chosen texts with both beauty and pathos. His Dido and Aeneas is a miracle of operatic economy\, with lively dancing\, memorable choruses\, and at its center a noble heroine who loves too well: her demise is both tragic and transcendent. \n  \nDido and Aeneas \n5/21/22 at 7:30 pm and 5/22/22 at 2:30 pm \nZilkha Hall\, The Hobby Center for the Performing Arts \nConcert broadcast presented on YouTube (5/22/22) \n  \nOn the program: \nHenry Purcell\, Dido and Aeneas \n  \nFeaturing: \nAbigail Fisher\, Dido \nMark Diamond\, Aeneas \nLauren Snouffer\, Belinda  \nNicholas Garza\, Sorceress \nThe New York Baroque Dance Company \nCatherine Turocy\, stage director & choreographer \nThe Moores School Concert Chorale \nBetsy Weber\, choral preparation \n  \nSeason Subscriptions ($148-$420): https://my.thehobbycenter.org/packages  \n  \nDigital Subscriptions ($120): https://www.arslyricahouston.org/purchase/2122ds  \n  \nIn-Person Single Tickets ($25-$75): https://my.thehobbycenter.org/overview/4820  \n  \nDigital Single Event Passes ($20): Coming soon
URL:https://www.earlymusicamerica.org/event/dido-and-aeneas/
LOCATION:The Hobby Center for the Performing Arts\, 800 Bagby St\, Houston\, TX\, 77002\, United States
CATEGORIES:Concerts
ATTACH;FMTTYPE=image/png:https://www.earlymusicamerica.org/wp-content/uploads/2021/09/5.png
ORGANIZER;CN="Ars%20Lyrica%20Houston":MAILTO:info@arslyricahouston.org
GEO:29.761788;-95.3695832
X-APPLE-STRUCTURED-LOCATION;VALUE=URI;X-ADDRESS=The Hobby Center for the Performing Arts 800 Bagby St Houston TX 77002 United States;X-APPLE-RADIUS=500;X-TITLE=800 Bagby St:geo:-95.3695832,29.761788
END:VEVENT
BEGIN:VEVENT
DTSTART;TZID=America/Chicago:20220604T180000
DTEND;TZID=America/Chicago:20220604T190000
DTSTAMP:20211018T070847
CREATED:20210901T225608Z
LAST-MODIFIED:20210901T230754Z
UID:69588-1654365600-1654369200@www.earlymusicamerica.org
SUMMARY:The Well-Tempered Clavier at Rienzi: Concert 2
DESCRIPTION:Rienzi is a jewel in the crown of the Museum of Fine Arts Houston. Its dramatic setting\, focused on the European decorative arts\, is the perfect pairing for our historically informed performances. Ars Lyrica Artistic Director Matthew Dirst continues his survey of Bach’s Well-Tempered Clavier with two performances of excerpts from Book 1 in the sumptuous surroundings of Rienzi\, the house museum for European decorative arts of the Museum of Fine Arts\, Houston. The featured instrument\, inspired by the work of the Gräbner family in Dresden in the early eighteenth century\, is visually and acoustically stunning\, a perfect complement to the Baroque-era décor at Rienzi. \n  \nNote: The in-person performance of The Well-Tempered Clavier at Rienzi are presented to our six-concert subscribers only. Digital subscribers receive access to concert recordings. There are no in-person or digital single tickets available. \n  \nThe Well-Tempered Clavier at Rienzi: Concert 2 \n6/4/22 at 6 pm \nRienzi\, Museum of Fine Arts \n  \nOn the program: \nJ.S. Bach\, The Well-Tempered Clavier \nPreludes & Fugues in: \nA-flat Major \nE-flat Minor \nD Major \nB Minor \nB Major \nG-sharp Minor \nE Major \nB-flat Minor \n  \nFeaturing: \nMatthew Dirst\, harpsichord \n  \n6-Concert Season Subscriptions ($222-$420): https://my.thehobbycenter.org/packages/fixed/175  \n  \nDigital Subscriptions ($120): https://www.arslyricahouston.org/purchase/2122ds 
URL:https://www.earlymusicamerica.org/event/the-well-tempered-clavier-at-rienzi-concert-2/
LOCATION:Rienzi\, Museum of Fine Arts\, Houston\, 1406 Kirby Dr\, Houston\, TX\, 77019\, United States
CATEGORIES:Concerts
ATTACH;FMTTYPE=image/png:https://www.earlymusicamerica.org/wp-content/uploads/2021/09/6-1.png
ORGANIZER;CN="Ars%20Lyrica%20Houston":MAILTO:info@arslyricahouston.org
GEO:29.7573757;-95.4170689
X-APPLE-STRUCTURED-LOCATION;VALUE=URI;X-ADDRESS=Rienzi Museum of Fine Arts Houston 1406 Kirby Dr Houston TX 77019 United States;X-APPLE-RADIUS=500;X-TITLE=1406 Kirby Dr:geo:-95.4170689,29.7573757
END:VEVENT
END:VCALENDAR